BEGIN:VCALENDAR
VERSION:2.0
PRODID:icalendar-ruby
CALSCALE:GREGORIAN
METHOD:PUBLISH
BEGIN:VEVENT
DTSTAMP:20260425T153503Z
UID:72-514579@hillsidefmc.org
DTSTART:20261004T143000Z
DTEND:20261004T153000Z
CLASS:PUBLIC
CREATED:20260425T102633
DESCRIPTION:Sunday Service
LAST-MODIFIED:20260425T102633
LOCATION:Hillside FMC - 753 McNabb St.
SUMMARY:Sunday Worship Service
URL;VALUE=URI:https://hillsidefmc.org/events/sunday-worship-service/2026-10
 -04
ATTACH;FILENAME=003---mobile---Banner-Worship-Team.jpg;FMTTYPE=image/jpeg:h
 ttps://dq5pwpg1q8ru0.cloudfront.net/2025/01/08/19/49/21/b63f883c-82d1-4eff
 -b20d-2093f3080dfb/003---mobile---Banner-Worship-Team.jpg
END:VEVENT
END:VCALENDAR
